BEGIN:VCALENDAR
VERSION:2.0
PRODID:-//Rugby Autism Network - ECPv6.15.20//NONSGML v1.0//EN
CALSCALE:GREGORIAN
METHOD:PUBLISH
X-ORIGINAL-URL:https://rugbyautismnetwork.co.uk
X-WR-CALDESC:Events for Rugby Autism Network
REFRESH-INTERVAL;VALUE=DURATION:PT1H
X-Robots-Tag:noindex
X-PUBLISHED-TTL:PT1H
BEGIN:VTIMEZONE
TZID:UTC
BEGIN:STANDARD
TZOFFSETFROM:+0000
TZOFFSETTO:+0000
TZNAME:UTC
DTSTART:20210101T000000
END:STANDARD
END:VTIMEZONE
BEGIN:VEVENT
DTSTART;TZID=UTC:20221110T094500
DTEND;TZID=UTC:20221110T111500
DTSTAMP:20260422T110558
CREATED:20181108T195444Z
LAST-MODIFIED:20220922T152236Z
UID:565-1668073500-1668078900@rugbyautismnetwork.co.uk
SUMMARY:Rugby Autism Network Support Meeting
DESCRIPTION:Come and join Rugby Autism Network for an informal chat. \nAll are welcome\, even if a diagnosis has not been made. Either pop in or stay for the morning.
URL:https://rugbyautismnetwork.co.uk/ran-calendar/rugby-autism-network-breakfast-2/
LOCATION:Brewer’s Fayre\, 2 Central Park Drive\, Rugby\, CV23 0WE
CATEGORIES:Support
END:VEVENT
END:VCALENDAR